BEGIN:VCALENDAR
VERSION:2.0
PRODID:-//Innovation Women - ECPv6.15.20//NONSGML v1.0//EN
CALSCALE:GREGORIAN
METHOD:PUBLISH
X-WR-CALNAME:Innovation Women
X-ORIGINAL-URL:https://innovationwomen.com
X-WR-CALDESC:Events for Innovation Women
REFRESH-INTERVAL;VALUE=DURATION:PT1H
X-Robots-Tag:noindex
X-PUBLISHED-TTL:PT1H
BEGIN:VTIMEZONE
TZID:UTC
BEGIN:STANDARD
TZOFFSETFROM:+0000
TZOFFSETTO:+0000
TZNAME:UTC
DTSTART:20230101T000000
END:STANDARD
END:VTIMEZONE
BEGIN:VTIMEZONE
TZID:America/New_York
BEGIN:DAYLIGHT
TZOFFSETFROM:-0500
TZOFFSETTO:-0400
TZNAME:EDT
DTSTART:20230312T070000
END:DAYLIGHT
BEGIN:STANDARD
TZOFFSETFROM:-0400
TZOFFSETTO:-0500
TZNAME:EST
DTSTART:20231105T060000
END:STANDARD
BEGIN:DAYLIGHT
TZOFFSETFROM:-0500
TZOFFSETTO:-0400
TZNAME:EDT
DTSTART:20240310T070000
END:DAYLIGHT
BEGIN:STANDARD
TZOFFSETFROM:-0400
TZOFFSETTO:-0500
TZNAME:EST
DTSTART:20241103T060000
END:STANDARD
BEGIN:DAYLIGHT
TZOFFSETFROM:-0500
TZOFFSETTO:-0400
TZNAME:EDT
DTSTART:20250309T070000
END:DAYLIGHT
BEGIN:STANDARD
TZOFFSETFROM:-0400
TZOFFSETTO:-0500
TZNAME:EST
DTSTART:20251102T060000
END:STANDARD
END:VTIMEZONE
BEGIN:VEVENT
DTSTART;VALUE=DATE:20240908
DTEND;VALUE=DATE:20240911
DTSTAMP:20260422T001420
CREATED:20240703T194540Z
LAST-MODIFIED:20240703T194540Z
UID:35290-1725753600-1726012799@innovationwomen.com
SUMMARY:2024 SHRM NYS Conference
DESCRIPTION:Be part of a powerful HR network with 325\,000+ professionals like you\, all united in the mission to create a world of work that truly works for all. As a SHRM Member®\, you’ll pave the path of your success with invaluable resources\, world-class educational opportunities and premier events. Join us in shaping a brighter\, inclusive tomorrow. \nDiane Darling will be presenting Self-Leadership: What It Is and Why It’s Important for You
URL:https://innovationwomen.com/event/2024-shrm-nys-conference/
LOCATION:Albany Capital Center\, 55 Eagle St\, Albany\, NY\, United States
CATEGORIES:Register For Events
ATTACH;FMTTYPE=image/png:https://innovationwomen.com/wp-content/uploads/2024/07/2024-nys-shrm.png
END:VEVENT
BEGIN:VEVENT
DTSTART;VALUE=DATE:20240908
DTEND;VALUE=DATE:20240911
DTSTAMP:20260422T001420
CREATED:20240807T205558Z
LAST-MODIFIED:20240807T205558Z
UID:35660-1725753600-1726012799@innovationwomen.com
SUMMARY:2024 SHRM NYS Conference
DESCRIPTION:The State Council is meant to serve as the bridge between SHRM and local chapters in New York State. With over 300\,000 national SHRM members\, SHRM remains the voice of all things work\, workers and the workplace. \nRita Ernst will be presenting “Culture Repair: Restoring belonging\, accountability & engagement”.
URL:https://innovationwomen.com/event/2024-shrm-nys-conference-2/
LOCATION:Albany Capital Center\, 55 Eagle St\, Albany\, NY\, United States
CATEGORIES:Register For Events
ATTACH;FMTTYPE=image/png:https://innovationwomen.com/wp-content/uploads/2024/07/2024-nys-shrm.png
END:VEVENT
BEGIN:VEVENT
DTSTART;VALUE=DATE:20240908
DTEND;VALUE=DATE:20240911
DTSTAMP:20260422T001420
CREATED:20240821T193459Z
LAST-MODIFIED:20240821T193459Z
UID:35785-1725753600-1726012799@innovationwomen.com
SUMMARY:2024 SHRM NYS Conference
DESCRIPTION:The State Council is meant to serve as the bridge between SHRM and local chapters in New York State. With over 300\,000 national SHRM members\, SHRM remains the voice of all things work\, workers and the workplace. \nJulia Geisman will be presenting “Agile Leadership: The Key to Meeting Today’s Strategic Talent Demands”.
URL:https://innovationwomen.com/event/2024-shrm-nys-conference-4/
LOCATION:Albany Capital Center\, 55 Eagle St\, Albany\, NY\, United States
CATEGORIES:Register For Events
ATTACH;FMTTYPE=image/png:https://innovationwomen.com/wp-content/uploads/2024/07/2024-nys-shrm.png
END:VEVENT
BEGIN:VEVENT
DTSTART;VALUE=DATE:20240909
DTEND;VALUE=DATE:20240914
DTSTAMP:20260422T001420
CREATED:20240613T205646Z
LAST-MODIFIED:20240613T205646Z
UID:35110-1725840000-1726271999@innovationwomen.com
SUMMARY:Annual America’s SBDC Conference
DESCRIPTION:For 45 years\, America’s SBDC has hosted its annual professional development conference for its business advisors and SBDC network professionals. This national event brings together over a thousand SBDC professionals and around fifty sponsors and exhibitors for learning\, networking\, and engagement.
URL:https://innovationwomen.com/event/annual-americas-sbdc-conference/
LOCATION:Marriott Marquis Atlanta\, 265 Peachtree Center Ave NE\, Atlanta\, GA\, United States
CATEGORIES:Register For Events
ATTACH;FMTTYPE=image/jpeg:https://innovationwomen.com/wp-content/uploads/2024/06/americas-sbdc.jpg
END:VEVENT
BEGIN:VEVENT
DTSTART;VALUE=DATE:20240910
DTEND;VALUE=DATE:20240912
DTSTAMP:20260422T001420
CREATED:20240109T210209Z
LAST-MODIFIED:20240109T210209Z
UID:32974-1725926400-1726099199@innovationwomen.com
SUMMARY:BioTechX USA
DESCRIPTION:America’s most exciting biotechnology congress\, bridging the gap between pharma\, academia and clinicians to foster meaningful collaborations
URL:https://innovationwomen.com/event/biotechx-usa/
LOCATION:Pennsylvania Convention Center\, 1101 Arch Street\, Philadelphia\, PA\, United States
CATEGORIES:Register For Events
ATTACH;FMTTYPE=image/webp:https://innovationwomen.com/wp-content/uploads/2024/01/biotech-x.webp
END:VEVENT
BEGIN:VEVENT
DTSTART;TZID=UTC:20240910T083000
DTEND;TZID=UTC:20240910T100000
DTSTAMP:20260422T001420
CREATED:20240703T195221Z
LAST-MODIFIED:20240719T213025Z
UID:35293-1725957000-1725962400@innovationwomen.com
SUMMARY:Nutmeg Chapter ALA Breakfast Meeting
DESCRIPTION:The Association of Legal Administrators’ mission is to improve the quality of management in legal services organizations; promote and enhance the competence and professionalism of legal administrators and all members of the management team; and represent professional legal management and managers to the legal community and to the community at large. \nDiane Darling will be presenting Effective Networking Workshop
URL:https://innovationwomen.com/event/nutmeg-chapter-ala-breakfast-meeting/
LOCATION:Sheraton Hartford South Hotel\, 100 Capital Blvd\, Rocky Hill\, CT\, United States
CATEGORIES:Register For Events
ATTACH;FMTTYPE=image/png:https://innovationwomen.com/wp-content/uploads/2024/07/ALA-Nutmeg-logo-for-web.png
END:VEVENT
BEGIN:VEVENT
DTSTART;TZID=America/New_York:20240910T120000
DTEND;TZID=America/New_York:20240910T133000
DTSTAMP:20260422T001420
CREATED:20240723T210821Z
LAST-MODIFIED:20240723T210821Z
UID:35427-1725969600-1725975000@innovationwomen.com
SUMMARY:Multiply Your Small Business Success using Public Speaking even online
DESCRIPTION:As a small business owner\, you benefit greatly by improving your public speaking skills\, online or in person. Whether you’re presenting to a group of potential clients about your service offerings or pitching to investors or lenders\, you need to be effective in getting your message across.
URL:https://innovationwomen.com/event/multiply-your-small-business-success-using-public-speaking-even-online-4/
LOCATION:Online
CATEGORIES:Register For Events
ATTACH;FMTTYPE=image/jpeg:https://innovationwomen.com/wp-content/uploads/2020/04/score-logo-600px.jpg
END:VEVENT
END:VCALENDAR