BEGIN:VCALENDAR
VERSION:2.0
PRODID:-//Innovation Women - ECPv6.15.20//NONSGML v1.0//EN
CALSCALE:GREGORIAN
METHOD:PUBLISH
X-ORIGINAL-URL:https://innovationwomen.com
X-WR-CALDESC:Events for Innovation Women
REFRESH-INTERVAL;VALUE=DURATION:PT1H
X-Robots-Tag:noindex
X-PUBLISHED-TTL:PT1H
BEGIN:VTIMEZONE
TZID:America/New_York
BEGIN:DAYLIGHT
TZOFFSETFROM:-0500
TZOFFSETTO:-0400
TZNAME:EDT
DTSTART:20250309T070000
END:DAYLIGHT
BEGIN:STANDARD
TZOFFSETFROM:-0400
TZOFFSETTO:-0500
TZNAME:EST
DTSTART:20251102T060000
END:STANDARD
BEGIN:DAYLIGHT
TZOFFSETFROM:-0500
TZOFFSETTO:-0400
TZNAME:EDT
DTSTART:20260308T070000
END:DAYLIGHT
BEGIN:STANDARD
TZOFFSETFROM:-0400
TZOFFSETTO:-0500
TZNAME:EST
DTSTART:20261101T060000
END:STANDARD
BEGIN:DAYLIGHT
TZOFFSETFROM:-0500
TZOFFSETTO:-0400
TZNAME:EDT
DTSTART:20270314T070000
END:DAYLIGHT
BEGIN:STANDARD
TZOFFSETFROM:-0400
TZOFFSETTO:-0500
TZNAME:EST
DTSTART:20271107T060000
END:STANDARD
END:VTIMEZONE
BEGIN:VEVENT
DTSTART;TZID=America/New_York:20260521T120000
DTEND;TZID=America/New_York:20260521T133000
DTSTAMP:20260420T170406
CREATED:20260205T224702Z
LAST-MODIFIED:20260205T224702Z
UID:43299-1779364800-1779370200@innovationwomen.com
SUMMARY:Cary Chamber Business of Women
DESCRIPTION:​The Cary Chamber of Commerce promotes economic growth through actively engaging existing and future businesses and supporting civic activities that contribute to the quality of life in Cary. \nDr Rita Renee will be presenting “Clarity Is the New Confidence Leading Without Apology or Comparison”.
URL:https://innovationwomen.com/event/cary-chamber-business-of-women/
LOCATION:Prestonwood Country Club\, 300 Prestonwood Pkwy\, Cary\, NC\, United States
CATEGORIES:Register For Events
END:VEVENT
END:VCALENDAR