BEGIN:VCALENDAR
VERSION:2.0
PRODID:-//Innovation Women - ECPv6.15.20//NONSGML v1.0//EN
CALSCALE:GREGORIAN
METHOD:PUBLISH
X-ORIGINAL-URL:https://innovationwomen.com
X-WR-CALDESC:Events for Innovation Women
REFRESH-INTERVAL;VALUE=DURATION:PT1H
X-Robots-Tag:noindex
X-PUBLISHED-TTL:PT1H
BEGIN:VTIMEZONE
TZID:UTC
BEGIN:STANDARD
TZOFFSETFROM:+0000
TZOFFSETTO:+0000
TZNAME:UTC
DTSTART:20230101T000000
END:STANDARD
END:VTIMEZONE
BEGIN:VTIMEZONE
TZID:America/Chicago
BEGIN:DAYLIGHT
TZOFFSETFROM:-0600
TZOFFSETTO:-0500
TZNAME:CDT
DTSTART:20230312T080000
END:DAYLIGHT
BEGIN:STANDARD
TZOFFSETFROM:-0500
TZOFFSETTO:-0600
TZNAME:CST
DTSTART:20231105T070000
END:STANDARD
BEGIN:DAYLIGHT
TZOFFSETFROM:-0600
TZOFFSETTO:-0500
TZNAME:CDT
DTSTART:20240310T080000
END:DAYLIGHT
BEGIN:STANDARD
TZOFFSETFROM:-0500
TZOFFSETTO:-0600
TZNAME:CST
DTSTART:20241103T070000
END:STANDARD
BEGIN:DAYLIGHT
TZOFFSETFROM:-0600
TZOFFSETTO:-0500
TZNAME:CDT
DTSTART:20250309T080000
END:DAYLIGHT
BEGIN:STANDARD
TZOFFSETFROM:-0500
TZOFFSETTO:-0600
TZNAME:CST
DTSTART:20251102T070000
END:STANDARD
END:VTIMEZONE
BEGIN:VEVENT
DTSTART;VALUE=DATE:20240410
DTEND;VALUE=DATE:20240413
DTSTAMP:20260425T123455
CREATED:20240220T223432Z
LAST-MODIFIED:20240220T223432Z
UID:33476-1712707200-1712966399@innovationwomen.com
SUMMARY:2024 Acetech Leadership Summit
DESCRIPTION:Are you a growth-oriented tech CEO? \nDo you think it’s lonely at the top? \nThe Acetech Leadership Summit is designed to take you and your company to the next level\, where you will hear stories from your peers and learn from the experts.
URL:https://innovationwomen.com/event/2024-acetech-leadership-summit/
LOCATION:Fairmont Chateau Whistler Resort\, 4599 Chateau Blvd\, Whistler\, British Columbia\, Canada
CATEGORIES:Register For Events
ATTACH;FMTTYPE=image/png:https://innovationwomen.com/wp-content/uploads/2024/02/acetech.png
END:VEVENT
BEGIN:VEVENT
DTSTART;VALUE=DATE:20240410
DTEND;VALUE=DATE:20240413
DTSTAMP:20260425T123455
CREATED:20240313T213212Z
LAST-MODIFIED:20240313T213212Z
UID:33670-1712707200-1712966399@innovationwomen.com
SUMMARY:Career Thought Leaders Symposium
DESCRIPTION:You’re invited to join us at the annual Career Thought Leaders Symposium in Lisbon\, Portugal. Enjoy the vibrant\, historic city\, beautiful April weather\, and a luxury resort (at a great group rate!). Network with colleagues from around the world\, and make some new friends too.
URL:https://innovationwomen.com/event/career-thought-leaders-symposium/
LOCATION:Sheraton Lisboa Hotel & Spa\, R. Latino Coelho 1\, Lisboa\, Portugal
CATEGORIES:Register For Events
ATTACH;FMTTYPE=image/png:https://innovationwomen.com/wp-content/uploads/2024/03/user_assets_CFND1IKS_uploads_images_1200x628-2024-symposium-1-1695584503.png
END:VEVENT
BEGIN:VEVENT
DTSTART;TZID=America/Chicago:20240410T083000
DTEND;TZID=America/Chicago:20240410T163000
DTSTAMP:20260425T123455
CREATED:20240329T213013Z
LAST-MODIFIED:20240329T213013Z
UID:33857-1712737800-1712766600@innovationwomen.com
SUMMARY:Panhandle Human Resources Association Spring Seminar
DESCRIPTION:The Panhandle Human Resources Association supports and connects Human Resource professionals in and around the Amarillo area. By providing valuable resources we hope to ensure that HR professionals are equipped with the necessary knowledge to be successful in their career. PHRA is an organization dedicated to professional growth and we welcome individuals who are interested in finding out more about the chapter to attend a PHRA event to learn more.
URL:https://innovationwomen.com/event/panhandle-human-resources-association-spring-seminar/
LOCATION:Amarillo Club\, 600 S Tyler - 31st Floor\, Amarillo\, TX\, United States
CATEGORIES:Register For Events
ATTACH;FMTTYPE=image/png:https://innovationwomen.com/wp-content/uploads/2024/03/Introduction-of-Speakers.png
END:VEVENT
END:VCALENDAR