BEGIN:VCALENDAR
VERSION:2.0
PRODID:-//Innovation Women - ECPv6.15.20//NONSGML v1.0//EN
CALSCALE:GREGORIAN
METHOD:PUBLISH
X-WR-CALNAME:Innovation Women
X-ORIGINAL-URL:https://innovationwomen.com
X-WR-CALDESC:Events for Innovation Women
REFRESH-INTERVAL;VALUE=DURATION:PT1H
X-Robots-Tag:noindex
X-PUBLISHED-TTL:PT1H
BEGIN:VTIMEZONE
TZID:UTC
BEGIN:STANDARD
TZOFFSETFROM:+0000
TZOFFSETTO:+0000
TZNAME:UTC
DTSTART:20240101T000000
END:STANDARD
END:VTIMEZONE
BEGIN:VEVENT
DTSTART;VALUE=DATE:20250314
DTEND;VALUE=DATE:20250315
DTSTAMP:20260419T234522
CREATED:20250129T215854Z
LAST-MODIFIED:20250129T215854Z
UID:36972-1741910400-1741996799@innovationwomen.com
SUMMARY:Ridgefield Public Library Staff Training
DESCRIPTION:Since the doors opened on its Morris Memorial building on Main Street on June 22\, 1903\, the Ridgefield Library has been a destination for Ridgefielders of all ages. \nRandye Kaye will be presenting “Calm in the Stacks: Burnout in the Library Biz and What to Do”.
URL:https://innovationwomen.com/event/ridgefield-public-library-staff-training/
LOCATION:Ridgefield Public Library\, 472 Main St\, Ridgefield\, CT\, United States
CATEGORIES:Register For Events
ATTACH;FMTTYPE=image/jpeg:https://innovationwomen.com/wp-content/uploads/2025/01/ridgefield.jpg
END:VEVENT
END:VCALENDAR