BEGIN:VCALENDAR
VERSION:2.0
PRODID:-//Innovation Women - ECPv6.15.20//NONSGML v1.0//EN
CALSCALE:GREGORIAN
METHOD:PUBLISH
X-ORIGINAL-URL:https://innovationwomen.com
X-WR-CALDESC:Events for Innovation Women
REFRESH-INTERVAL;VALUE=DURATION:PT1H
X-Robots-Tag:noindex
X-PUBLISHED-TTL:PT1H
BEGIN:VTIMEZONE
TZID:UTC
BEGIN:STANDARD
TZOFFSETFROM:+0000
TZOFFSETTO:+0000
TZNAME:UTC
DTSTART:20220101T000000
END:STANDARD
END:VTIMEZONE
BEGIN:VEVENT
DTSTART;VALUE=DATE:20231002
DTEND;VALUE=DATE:20231004
DTSTAMP:20260423T095726
CREATED:20230717T214434Z
LAST-MODIFIED:20230717T214434Z
UID:26586-1696204800-1696377599@innovationwomen.com
SUMMARY:Women In Tech Boston
DESCRIPTION:Join us in Boston this October to explore the most essential technologies in today’s rapidly changing world and learn about the new revolutionary concepts that are radically changing our future in The New Frontier. \nCelebrate the power of diversity with 1000+ leading women in tech and diversity champions\, from global leaders to disruptive startups\, to shine a spotlight on the technology\, people\, and businesses that are driving change. \nAre you ready to take a step into the future exploration of technology\, strategy and leadership and discover a whole new world of possibilities?
URL:https://innovationwomen.com/event/women-in-tech-boston/
LOCATION:Sheraton Boston Hotel\, 39 Dalton St\, Boston\, MA\, United States
CATEGORIES:Register For Events
END:VEVENT
BEGIN:VEVENT
DTSTART;VALUE=DATE:20231002
DTEND;VALUE=DATE:20231004
DTSTAMP:20260423T095726
CREATED:20230913T215345Z
LAST-MODIFIED:20230913T215345Z
UID:27872-1696204800-1696377599@innovationwomen.com
SUMMARY:Umbraco U.S. Summit
DESCRIPTION:If Umbraco is part of your business or if you’re curious about how Umbraco can escalate your digital business\, this is an event you don’t want to miss! \nWhether you are a business professional\, a web developer\, a partner\, or a hybrid of all of these\, this event is for you!
URL:https://innovationwomen.com/event/umbraco-u-s-summit/
LOCATION:Charlotte Convention Center\, 501 S College St\, Charlotte\, NC\, United States
CATEGORIES:Register For Events
ATTACH;FMTTYPE=image/png:https://innovationwomen.com/wp-content/uploads/2023/09/umbraco.png
END:VEVENT
END:VCALENDAR