BEGIN:VCALENDAR
VERSION:2.0
PRODID:-//Innovation Women - ECPv6.15.20//NONSGML v1.0//EN
CALSCALE:GREGORIAN
METHOD:PUBLISH
X-ORIGINAL-URL:https://innovationwomen.com
X-WR-CALDESC:Events for Innovation Women
REFRESH-INTERVAL;VALUE=DURATION:PT1H
X-Robots-Tag:noindex
X-PUBLISHED-TTL:PT1H
BEGIN:VTIMEZONE
TZID:UTC
BEGIN:STANDARD
TZOFFSETFROM:+0000
TZOFFSETTO:+0000
TZNAME:UTC
DTSTART:20220101T000000
END:STANDARD
END:VTIMEZONE
BEGIN:VEVENT
DTSTART;VALUE=DATE:20231020
DTEND;VALUE=DATE:20231029
DTSTAMP:20260423T095646
CREATED:20231025T215311Z
LAST-MODIFIED:20231025T215311Z
UID:28901-1697760000-1698537599@innovationwomen.com
SUMMARY:EOCON 2023
DESCRIPTION:The EyesOpen association\, which aims to promote digital security\, is organizing the sixth edition of its bilingual event (French/English) on cybersecurity which combines three meetings: An cybersecurity competition (EyesOpen Capture The Flag) A series of training workshops A digital security conference and expert panels. The EOCON Conference gives its name to the whole event. It is structured in a bilingual format and brings together business leaders\, organizations and professionals from several localities. This is a dynamic and friendly meeting organized in an attractive setting. Follow the hashtag #EOCON.
URL:https://innovationwomen.com/event/eocon-2023/
LOCATION:Online
CATEGORIES:Register For Events
ATTACH;FMTTYPE=image/png:https://innovationwomen.com/wp-content/uploads/2023/10/eocon-2023.png
END:VEVENT
END:VCALENDAR