BEGIN:VCALENDAR
VERSION:2.0
PRODID:-//Innovation Women - ECPv6.15.20//NONSGML v1.0//EN
CALSCALE:GREGORIAN
METHOD:PUBLISH
X-WR-CALNAME:Innovation Women
X-ORIGINAL-URL:https://innovationwomen.com
X-WR-CALDESC:Events for Innovation Women
REFRESH-INTERVAL;VALUE=DURATION:PT1H
X-Robots-Tag:noindex
X-PUBLISHED-TTL:PT1H
BEGIN:VTIMEZONE
TZID:UTC
BEGIN:STANDARD
TZOFFSETFROM:+0000
TZOFFSETTO:+0000
TZNAME:UTC
DTSTART:20230101T000000
END:STANDARD
END:VTIMEZONE
BEGIN:VEVENT
DTSTART;VALUE=DATE:20241008
DTEND;VALUE=DATE:20241009
DTSTAMP:20260420T104835
CREATED:20240517T214539Z
LAST-MODIFIED:20240517T214539Z
UID:34901-1728345600-1728431999@innovationwomen.com
SUMMARY:Enterprising Women's Summit
DESCRIPTION:Doreen A Lang will be presenting Leadership as a Highly Sensitive Person at Enterprising Women’s Summit on 8 October 2024 in Plymouth.
URL:https://innovationwomen.com/event/enterprising-womens-summit/
LOCATION:Plymouth MA\, Plymouth\, MA\, United States
CATEGORIES:Register For Events
ATTACH;FMTTYPE=image/png:https://innovationwomen.com/wp-content/uploads/2024/05/cape-and-plymouth.png
END:VEVENT
END:VCALENDAR