BEGIN:VCALENDAR
VERSION:2.0
PRODID:-//Innovation Women - ECPv6.15.20//NONSGML v1.0//EN
CALSCALE:GREGORIAN
METHOD:PUBLISH
X-WR-CALNAME:Innovation Women
X-ORIGINAL-URL:https://innovationwomen.com
X-WR-CALDESC:Events for Innovation Women
REFRESH-INTERVAL;VALUE=DURATION:PT1H
X-Robots-Tag:noindex
X-PUBLISHED-TTL:PT1H
BEGIN:VTIMEZONE
TZID:UTC
BEGIN:STANDARD
TZOFFSETFROM:+0000
TZOFFSETTO:+0000
TZNAME:UTC
DTSTART:20240101T000000
END:STANDARD
END:VTIMEZONE
BEGIN:VEVENT
DTSTART;VALUE=DATE:20251020
DTEND;VALUE=DATE:20251027
DTSTAMP:20260421T234149
CREATED:20251007T214838Z
LAST-MODIFIED:20251007T214838Z
UID:38748-1760918400-1761523199@innovationwomen.com
SUMMARY:She Is Me Conference 2025: Stronger Together
DESCRIPTION:The SheIsMe Annual Conference is a six-day global gathering of women’s voices\, stories\, and leadership. Featuring powerful panels\, hands-on workshops\, inspiring performances\, and community celebrations\, the conference is more than an event—it’s a movement. Women join from around the world\, both virtually and through local watch parties\, to learn\, heal\, and rise together. It is a sacred space where authenticity replaces competition\, vulnerability becomes strength\, and every woman’s story has value. \nDr. Ashley Smith will be presenting “Courageously Confident: The Visionary Approach to Bold Living”.
URL:https://innovationwomen.com/event/she-is-me-conference-2025-stronger-together/
LOCATION:Online
CATEGORIES:Register For Events
ATTACH;FMTTYPE=image/webp:https://innovationwomen.com/wp-content/uploads/2025/10/rsw_1280h_1280.webp
END:VEVENT
BEGIN:VEVENT
DTSTART;VALUE=DATE:20251023
DTEND;VALUE=DATE:20251025
DTSTAMP:20260421T234149
CREATED:20251016T215237Z
LAST-MODIFIED:20251016T215237Z
UID:38787-1761177600-1761350399@innovationwomen.com
SUMMARY:Native Women's Leadership Forum
DESCRIPTION:Native Action Network will host our 21st Annual Native Women’s Leadership Forum October 23-24th at the Muckleshoot Casino Resort. The Native Women’s Leadership Forum is an annual event filled with workshops\, keynote speakers\, panels\, and intergenerational connection. This year’s theme\, “Transforming the Future We Imagine\,” celebrates our 21st year of enhancing the beauty\, strength\, and integrity of American Indian and Alaska Native communities through personal empowerment and civic participation. \nCindy Gross will be presenting “Befriending Dragons: Building Bridges to Navigate People\, Power\, and Place”.
URL:https://innovationwomen.com/event/native-womens-leadership-forum/
LOCATION:Muckleshoot Casino Resort\, 2402 Auburn Way S\, Auburn\, WA\, United States
CATEGORIES:Register For Events
ATTACH;FMTTYPE=image/jpeg:https://innovationwomen.com/wp-content/uploads/2025/10/Im_speaking_at_Native_Action_Networks_21st_Annual_Native_Womens_Leadership_Forum.jpg
END:VEVENT
BEGIN:VEVENT
DTSTART;VALUE=DATE:20251023
DTEND;VALUE=DATE:20251026
DTSTAMP:20260421T234149
CREATED:20251014T203847Z
LAST-MODIFIED:20251014T203847Z
UID:38773-1761177600-1761436799@innovationwomen.com
SUMMARY:WE25
DESCRIPTION:Join us at WE25\, the Annual Conference hosted by the Society of Women Engineers\, where the brightest minds and trailblazers in engineering and technology of all genders representing 85 countries come together to connect\, innovate\, and inspire. Whether you’re a seasoned professional or just starting your engineering journey\, WE25 is your opportunity to learn\, network\, and grow in a community of innovators. \nHope Yin will be presenting “Crack The Code: Get Your Next Promotion\, Full STEAM Ahead”.
URL:https://innovationwomen.com/event/we25/
LOCATION:Ernest N. Morial Convention Center\, 900 Convention Center Blvd\, New Orleans\, LA\, United States
CATEGORIES:Register For Events
ATTACH;FMTTYPE=image/webp:https://innovationwomen.com/wp-content/uploads/2025/10/date-lockup-person-trans.webp
END:VEVENT
BEGIN:VEVENT
DTSTART;VALUE=DATE:20251024
DTEND;VALUE=DATE:20251026
DTSTAMP:20260421T234149
CREATED:20250924T190127Z
LAST-MODIFIED:20250924T190127Z
UID:38645-1761264000-1761436799@innovationwomen.com
SUMMARY:2025 LEAD Girls Rising Expo
DESCRIPTION:At our upcoming Expo\, we’ll explore how to build trust\, develop healthy communication\, and foster meaningful habits through sessions designed to empower girls and their families. This fun and educational event brings together girls\, businesses\, and community partners to create an inspiring day for learning and growth. \nJalonda Thompson will be presenting “STEM Girls Lead: Find Your Voice & Lead From Where You Are”.
URL:https://innovationwomen.com/event/2025-lead-girls-rising-expo/
LOCATION:LEAD Girls Office\, 1100 West First Street\, Winston-Salem\, NC\, United States
CATEGORIES:Register For Events
ATTACH;FMTTYPE=image/jpeg:https://innovationwomen.com/wp-content/uploads/2025/09/lead-logo-c250.jpg
END:VEVENT
END:VCALENDAR