BEGIN:VCALENDAR
VERSION:2.0
PRODID:-//Innovation Women - ECPv6.15.20//NONSGML v1.0//EN
CALSCALE:GREGORIAN
METHOD:PUBLISH
X-ORIGINAL-URL:https://innovationwomen.com
X-WR-CALDESC:Events for Innovation Women
REFRESH-INTERVAL;VALUE=DURATION:PT1H
X-Robots-Tag:noindex
X-PUBLISHED-TTL:PT1H
BEGIN:VTIMEZONE
TZID:UTC
BEGIN:STANDARD
TZOFFSETFROM:+0000
TZOFFSETTO:+0000
TZNAME:UTC
DTSTART:20230101T000000
END:STANDARD
END:VTIMEZONE
BEGIN:VTIMEZONE
TZID:America/New_York
BEGIN:DAYLIGHT
TZOFFSETFROM:-0500
TZOFFSETTO:-0400
TZNAME:EDT
DTSTART:20230312T070000
END:DAYLIGHT
BEGIN:STANDARD
TZOFFSETFROM:-0400
TZOFFSETTO:-0500
TZNAME:EST
DTSTART:20231105T060000
END:STANDARD
BEGIN:DAYLIGHT
TZOFFSETFROM:-0500
TZOFFSETTO:-0400
TZNAME:EDT
DTSTART:20240310T070000
END:DAYLIGHT
BEGIN:STANDARD
TZOFFSETFROM:-0400
TZOFFSETTO:-0500
TZNAME:EST
DTSTART:20241103T060000
END:STANDARD
BEGIN:DAYLIGHT
TZOFFSETFROM:-0500
TZOFFSETTO:-0400
TZNAME:EDT
DTSTART:20250309T070000
END:DAYLIGHT
BEGIN:STANDARD
TZOFFSETFROM:-0400
TZOFFSETTO:-0500
TZNAME:EST
DTSTART:20251102T060000
END:STANDARD
END:VTIMEZONE
BEGIN:VTIMEZONE
TZID:America/Los_Angeles
BEGIN:DAYLIGHT
TZOFFSETFROM:-0800
TZOFFSETTO:-0700
TZNAME:PDT
DTSTART:20230312T100000
END:DAYLIGHT
BEGIN:STANDARD
TZOFFSETFROM:-0700
TZOFFSETTO:-0800
TZNAME:PST
DTSTART:20231105T090000
END:STANDARD
BEGIN:DAYLIGHT
TZOFFSETFROM:-0800
TZOFFSETTO:-0700
TZNAME:PDT
DTSTART:20240310T100000
END:DAYLIGHT
BEGIN:STANDARD
TZOFFSETFROM:-0700
TZOFFSETTO:-0800
TZNAME:PST
DTSTART:20241103T090000
END:STANDARD
BEGIN:DAYLIGHT
TZOFFSETFROM:-0800
TZOFFSETTO:-0700
TZNAME:PDT
DTSTART:20250309T100000
END:DAYLIGHT
BEGIN:STANDARD
TZOFFSETFROM:-0700
TZOFFSETTO:-0800
TZNAME:PST
DTSTART:20251102T090000
END:STANDARD
END:VTIMEZONE
BEGIN:VTIMEZONE
TZID:America/Chicago
BEGIN:DAYLIGHT
TZOFFSETFROM:-0600
TZOFFSETTO:-0500
TZNAME:CDT
DTSTART:20230312T080000
END:DAYLIGHT
BEGIN:STANDARD
TZOFFSETFROM:-0500
TZOFFSETTO:-0600
TZNAME:CST
DTSTART:20231105T070000
END:STANDARD
BEGIN:DAYLIGHT
TZOFFSETFROM:-0600
TZOFFSETTO:-0500
TZNAME:CDT
DTSTART:20240310T080000
END:DAYLIGHT
BEGIN:STANDARD
TZOFFSETFROM:-0500
TZOFFSETTO:-0600
TZNAME:CST
DTSTART:20241103T070000
END:STANDARD
BEGIN:DAYLIGHT
TZOFFSETFROM:-0600
TZOFFSETTO:-0500
TZNAME:CDT
DTSTART:20250309T080000
END:DAYLIGHT
BEGIN:STANDARD
TZOFFSETFROM:-0500
TZOFFSETTO:-0600
TZNAME:CST
DTSTART:20251102T070000
END:STANDARD
END:VTIMEZONE
BEGIN:VEVENT
DTSTART;VALUE=DATE:20240305
DTEND;VALUE=DATE:20240307
DTSTAMP:20260423T142946
CREATED:20240109T204036Z
LAST-MODIFIED:20240109T204036Z
UID:32961-1709596800-1709769599@innovationwomen.com
SUMMARY:ROCKIT WOMEN’S 6TH ANNUAL WOMEN IN TECH CONFERENCE
DESCRIPTION:Join over 450 women and a few good men to hear from leading women in tech\, gain valuable insight\, celebrate achievements\, network\, eat\, and have fun!
URL:https://innovationwomen.com/event/rockit-womens-6th-annual-women-in-tech-conference/
LOCATION:Mellwood Arts Center\, 1860 Mellwood Ave\, Louisville\, KY\, United States
CATEGORIES:Register For Events
ATTACH;FMTTYPE=image/png:https://innovationwomen.com/wp-content/uploads/2023/09/Rockit-women.png
END:VEVENT
BEGIN:VEVENT
DTSTART;TZID=UTC:20240316T170000
DTEND;TZID=UTC:20240316T233000
DTSTAMP:20260423T142946
CREATED:20231206T154520Z
LAST-MODIFIED:20231206T154520Z
UID:32628-1710608400-1710631800@innovationwomen.com
SUMMARY:BadA$$ in HerStory award Ceremony
DESCRIPTION:Get ready to be blown away by the incredible women who have made history and continue to inspire us all! The BadA$$ in HerStory Award Ceremony is an event you don’t want to miss. We’ll be honoring the fearless women who have shattered glass ceilings\, challenged societal norms\, and paved the way for future generations.
URL:https://innovationwomen.com/event/bada-in-herstory-award-ceremony/
LOCATION:Champagne Event Space\, 1102 Blue Hill Ave\, Boston\, MA\, United States
CATEGORIES:Register For Events
ATTACH;FMTTYPE=image/jpeg:https://innovationwomen.com/wp-content/uploads/2023/12/badass-in-herstory.jpg
END:VEVENT
BEGIN:VEVENT
DTSTART;TZID=America/New_York:20240320T140000
DTEND;TZID=America/New_York:20240320T150000
DTSTAMP:20260423T142946
CREATED:20240313T220040Z
LAST-MODIFIED:20240313T220040Z
UID:33676-1710943200-1710946800@innovationwomen.com
SUMMARY:Celebrating Women in Cybersecurity
DESCRIPTION:Women held 25% of cybersecurity jobs globally in 2022\, up from 20% in 2019 and around 10% in 2013. It is predicted that women will represent 30% of the global cybersecurity workforce by 2025\, reaching 35% by 2031. To celebrate these strides and achievements\, we are hosting a roundtable discussion on Wednesday\, March 20 from 2-3pm EST
URL:https://innovationwomen.com/event/celebrating-women-in-cybersecurity/
LOCATION:Online
CATEGORIES:Register For Events
ATTACH;FMTTYPE=image/jpeg:https://innovationwomen.com/wp-content/uploads/2024/03/ea3a4499fba6d258ff46658df8d5f3c2.jpg
END:VEVENT
BEGIN:VEVENT
DTSTART;TZID=America/Los_Angeles:20240323T120000
DTEND;TZID=America/Los_Angeles:20240323T180000
DTSTAMP:20260423T142946
CREATED:20240320T235550Z
LAST-MODIFIED:20240320T235550Z
UID:33758-1711195200-1711216800@innovationwomen.com
SUMMARY:GDG Burnaby IWD 2024 - Impact the Future
DESCRIPTION:Imagine a gender equal world. A world free of bias\, stereotypes\, and discrimination. A world that’s diverse\, equitable\, and inclusive. A world where difference is valued and celebrated. Together we can forge women’s equality. Collectively we can all #InspireInclusion. \nCelebrate women’s achievement. Raise awareness about discrimination. Take action to drive gender parity. \nIWD belongs to everyone\, everywhere. Inclusion means all IWD action is valid.
URL:https://innovationwomen.com/event/gdg-burnaby-iwd-2024-impact-the-future/
LOCATION:Northeastern University – Vancouver\, 410 West Georgia Street\, Vancouver\, BC\, V6B 1Z3\, Canada
CATEGORIES:Register For Events
ATTACH;FMTTYPE=image/webp:https://innovationwomen.com/wp-content/uploads/2024/03/impact-the-futre.webp
END:VEVENT
BEGIN:VEVENT
DTSTART;TZID=America/New_York:20240326T083000
DTEND;TZID=America/New_York:20240326T170000
DTSTAMP:20260423T142946
CREATED:20240315T225030Z
LAST-MODIFIED:20240315T225030Z
UID:33746-1711441800-1711472400@innovationwomen.com
SUMMARY:2024 Professional Women’s Forum: Clarity & Confidence
DESCRIPTION:Every year\, we host the Professional Women(+)’s Forum as part of our Women(+) in Business program. The Professional Women’s Forum is a full-day conference filled with inspiring and energizing sessions designed to foster connections with women across Lancaster County\, cultivate professional and personal growth\, and celebrate the impact of women in our community. \nAt our 2024 Professional Women’s Forum\, we’ll dive into sessions that focus on ways to enhance our clarity and build our confidence as we navigate our personal and professional journeys! Embracing clarity and confidence in our lives supports our pursuit of our goals\, empowers us to make impactful decisions\, and inspires us to overcome challenges with determination.
URL:https://innovationwomen.com/event/2024-professional-womens-forum-clarity-confidence/
LOCATION:DoubleTree Resort By Hilton\, 2400 Willow Street Pike\, Lancaster\, PA\, United States
CATEGORIES:Register For Events
ATTACH;FMTTYPE=image/webp:https://innovationwomen.com/wp-content/uploads/2024/03/lancaster-chamber.webp
END:VEVENT
BEGIN:VEVENT
DTSTART;TZID=America/Chicago:20240327T130000
DTEND;TZID=America/Chicago:20240327T140000
DTSTAMP:20260423T142946
CREATED:20240315T221455Z
LAST-MODIFIED:20240315T221455Z
UID:33729-1711544400-1711548000@innovationwomen.com
SUMMARY:Ditch the Imposter Syndrome
DESCRIPTION:You dream of being comfortable in your own skin. You dream of more influence\, impact\, income\, and success. But your fear and self-doubt of what could go wrong are holding you captive. \nImposter syndrome often surfaces as feeling like a phony. You sometimes feel as though at any moment you are going to be found out as a fraud—like you don’t belong where you are. A recent study found that 75% of women identified having experienced imposter syndrome at various points during their careers. Time to ditch the doubt and empower your inner voice champion!
URL:https://innovationwomen.com/event/ditch-the-imposter-syndrome/
LOCATION:Online
CATEGORIES:Register For Events
ATTACH;FMTTYPE=image/jpeg:https://innovationwomen.com/wp-content/uploads/2024/03/women-in-trucking.jpg
END:VEVENT
END:VCALENDAR