BEGIN:VCALENDAR
VERSION:2.0
PRODID:-//Innovation Women - ECPv6.15.20//NONSGML v1.0//EN
CALSCALE:GREGORIAN
METHOD:PUBLISH
X-WR-CALNAME:Innovation Women
X-ORIGINAL-URL:https://innovationwomen.com
X-WR-CALDESC:Events for Innovation Women
REFRESH-INTERVAL;VALUE=DURATION:PT1H
X-Robots-Tag:noindex
X-PUBLISHED-TTL:PT1H
BEGIN:VTIMEZONE
TZID:America/New_York
BEGIN:DAYLIGHT
TZOFFSETFROM:-0500
TZOFFSETTO:-0400
TZNAME:EDT
DTSTART:20230312T070000
END:DAYLIGHT
BEGIN:STANDARD
TZOFFSETFROM:-0400
TZOFFSETTO:-0500
TZNAME:EST
DTSTART:20231105T060000
END:STANDARD
BEGIN:DAYLIGHT
TZOFFSETFROM:-0500
TZOFFSETTO:-0400
TZNAME:EDT
DTSTART:20240310T070000
END:DAYLIGHT
BEGIN:STANDARD
TZOFFSETFROM:-0400
TZOFFSETTO:-0500
TZNAME:EST
DTSTART:20241103T060000
END:STANDARD
BEGIN:DAYLIGHT
TZOFFSETFROM:-0500
TZOFFSETTO:-0400
TZNAME:EDT
DTSTART:20250309T070000
END:DAYLIGHT
BEGIN:STANDARD
TZOFFSETFROM:-0400
TZOFFSETTO:-0500
TZNAME:EST
DTSTART:20251102T060000
END:STANDARD
END:VTIMEZONE
BEGIN:VEVENT
DTSTART;TZID=America/New_York:20240320T140000
DTEND;TZID=America/New_York:20240320T150000
DTSTAMP:20260419T222458
CREATED:20240313T220040Z
LAST-MODIFIED:20240313T220040Z
UID:33676-1710943200-1710946800@innovationwomen.com
SUMMARY:Celebrating Women in Cybersecurity
DESCRIPTION:Women held 25% of cybersecurity jobs globally in 2022\, up from 20% in 2019 and around 10% in 2013. It is predicted that women will represent 30% of the global cybersecurity workforce by 2025\, reaching 35% by 2031. To celebrate these strides and achievements\, we are hosting a roundtable discussion on Wednesday\, March 20 from 2-3pm EST
URL:https://innovationwomen.com/event/celebrating-women-in-cybersecurity/
LOCATION:Online
CATEGORIES:Register For Events
ATTACH;FMTTYPE=image/jpeg:https://innovationwomen.com/wp-content/uploads/2024/03/ea3a4499fba6d258ff46658df8d5f3c2.jpg
END:VEVENT
END:VCALENDAR