BEGIN:VCALENDAR
VERSION:2.0
PRODID:-//Innovation Women - ECPv6.15.20//NONSGML v1.0//EN
CALSCALE:GREGORIAN
METHOD:PUBLISH
X-ORIGINAL-URL:https://innovationwomen.com
X-WR-CALDESC:Events for Innovation Women
REFRESH-INTERVAL;VALUE=DURATION:PT1H
X-Robots-Tag:noindex
X-PUBLISHED-TTL:PT1H
BEGIN:VTIMEZONE
TZID:America/Los_Angeles
BEGIN:DAYLIGHT
TZOFFSETFROM:-0800
TZOFFSETTO:-0700
TZNAME:PDT
DTSTART:20230312T100000
END:DAYLIGHT
BEGIN:STANDARD
TZOFFSETFROM:-0700
TZOFFSETTO:-0800
TZNAME:PST
DTSTART:20231105T090000
END:STANDARD
BEGIN:DAYLIGHT
TZOFFSETFROM:-0800
TZOFFSETTO:-0700
TZNAME:PDT
DTSTART:20240310T100000
END:DAYLIGHT
BEGIN:STANDARD
TZOFFSETFROM:-0700
TZOFFSETTO:-0800
TZNAME:PST
DTSTART:20241103T090000
END:STANDARD
BEGIN:DAYLIGHT
TZOFFSETFROM:-0800
TZOFFSETTO:-0700
TZNAME:PDT
DTSTART:20250309T100000
END:DAYLIGHT
BEGIN:STANDARD
TZOFFSETFROM:-0700
TZOFFSETTO:-0800
TZNAME:PST
DTSTART:20251102T090000
END:STANDARD
END:VTIMEZONE
BEGIN:VEVENT
DTSTART;TZID=America/Los_Angeles:20240420T073000
DTEND;TZID=America/Los_Angeles:20240420T170000
DTSTAMP:20260423T142827
CREATED:20240315T220524Z
LAST-MODIFIED:20240315T220524Z
UID:33722-1713598200-1713632400@innovationwomen.com
SUMMARY:Sharp Women's Health Conference
DESCRIPTION:Caring for our community is our top priority. And at the annual Sharp Women’s Health Conference\, we strive to empower you to improve your health and well-being and provide you with the tools to live a more balanced life. Hear from dynamic keynote speakers. Choose from more than 20 breakout sessions on health and lifestyle topics. Get pampered and attend free screenings/assessments. Enjoy breakfast\, lunch\, opportunity drawings and a fabulous gift bag.
URL:https://innovationwomen.com/event/sharp-womens-health-conference/
LOCATION:Sheraton San Diego Hotel & Marina\, 1380 Harbor Island Drive\, San Diego\, CA\, United States
CATEGORIES:Register For Events
ATTACH;FMTTYPE=image/webp:https://innovationwomen.com/wp-content/uploads/2024/03/SWHC04663-Sharp.com-Hero-Image-3840x2160-1.webp
END:VEVENT
END:VCALENDAR