BEGIN:VCALENDAR
VERSION:2.0
PRODID:-//Innovation Women - ECPv6.15.20//NONSGML v1.0//EN
CALSCALE:GREGORIAN
METHOD:PUBLISH
X-ORIGINAL-URL:https://innovationwomen.com
X-WR-CALDESC:Events for Innovation Women
REFRESH-INTERVAL;VALUE=DURATION:PT1H
X-Robots-Tag:noindex
X-PUBLISHED-TTL:PT1H
BEGIN:VTIMEZONE
TZID:America/New_York
BEGIN:DAYLIGHT
TZOFFSETFROM:-0500
TZOFFSETTO:-0400
TZNAME:EDT
DTSTART:20230312T070000
END:DAYLIGHT
BEGIN:STANDARD
TZOFFSETFROM:-0400
TZOFFSETTO:-0500
TZNAME:EST
DTSTART:20231105T060000
END:STANDARD
BEGIN:DAYLIGHT
TZOFFSETFROM:-0500
TZOFFSETTO:-0400
TZNAME:EDT
DTSTART:20240310T070000
END:DAYLIGHT
BEGIN:STANDARD
TZOFFSETFROM:-0400
TZOFFSETTO:-0500
TZNAME:EST
DTSTART:20241103T060000
END:STANDARD
BEGIN:DAYLIGHT
TZOFFSETFROM:-0500
TZOFFSETTO:-0400
TZNAME:EDT
DTSTART:20250309T070000
END:DAYLIGHT
BEGIN:STANDARD
TZOFFSETFROM:-0400
TZOFFSETTO:-0500
TZNAME:EST
DTSTART:20251102T060000
END:STANDARD
END:VTIMEZONE
BEGIN:VTIMEZONE
TZID:UTC
BEGIN:STANDARD
TZOFFSETFROM:+0000
TZOFFSETTO:+0000
TZNAME:UTC
DTSTART:20230101T000000
END:STANDARD
END:VTIMEZONE
BEGIN:VEVENT
DTSTART;TZID=America/New_York:20240423T080000
DTEND;TZID=America/New_York:20240425T170000
DTSTAMP:20260421T214459
CREATED:20240122T215229Z
LAST-MODIFIED:20240326T134900Z
UID:33111-1713859200-1714064400@innovationwomen.com
SUMMARY:WomenTech Global Conference 2024
DESCRIPTION:[vc_row][vc_column][vc_column_text] \nThe Innovation Women team is thrilled to announce that we are joining the WomenTech Global Conference 2024 as a Community Partner! \nWomenTech Network is hosting the fourth edition of the largest virtual tech conference for women\, minorities\, and their allies in tech – Women in Tech Global Conference 2024 April 23-25. The theme for this year’s conference is evolving around Technology Leadership\, Tech Innovation\, Career Growth\, and how we can make an impact and shape the future together.   \n#WTGC2024 will feature tech professionals\, industry innovators\, and +700 speakers from all over the world. Some of the speakers are the most accomplished women in tech\, including technologists and leaders from companies like Amazon\, Google\, HP\, Meta\, Microsoft\, IBM\, and many more.  \nLearn more about this conference and get your tickets at https://www.womentech.net/women-tech-conference   \nUse this 20% discount code to secure your ticket: WITCOM2024 \n[/vc_column_text][/vc_column][/vc_row][vc_row][vc_column][vc_single_image image=”33113″ img_size=”large” alignment=”center”][/vc_column][/vc_row]
URL:https://innovationwomen.com/event/womentech-global-conference-2024/
LOCATION:Online
CATEGORIES:Register For Events
END:VEVENT
BEGIN:VEVENT
DTSTART;VALUE=DATE:20240425
DTEND;VALUE=DATE:20240426
DTSTAMP:20260421T214459
CREATED:20240326T141550Z
LAST-MODIFIED:20240326T141550Z
UID:33802-1714003200-1714089599@innovationwomen.com
SUMMARY:WomenTech Global Conference 2024
DESCRIPTION:WomenTech Network is hosting the fourth edition of the largest virtual tech conference for women\, minorities\, and their allies in tech – Women in Tech Global Conference 2024 April 23-25. The theme for this year’s conference is evolving around Technology Leadership\, Tech Innovation\, Career Growth\, and how we can make an impact and shape the future together.  \n#WTGC2024 will feature tech professionals\, industry innovators\, and +700 speakers from all over the world. Some of the speakers are the most accomplished women in tech\, including technologists and leaders from companies like Amazon\, Google\, HP\, Meta\, Microsoft\, IBM\, and many more.  \nJanice Dru-Bennett presents “Turn Your Layoff into a Layup: Map Your Next Steps and Take the Big Leap”
URL:https://innovationwomen.com/event/womentech-global-conference-2024-2/
LOCATION:Online
CATEGORIES:Register For Events
ATTACH;FMTTYPE=image/jpeg:https://innovationwomen.com/wp-content/uploads/2024/03/1af7e784-2230-408d-81c9-d27373bebd4d_0.jpg
END:VEVENT
BEGIN:VEVENT
DTSTART;VALUE=DATE:20240425
DTEND;VALUE=DATE:20240427
DTSTAMP:20260421T214459
CREATED:20240410T214753Z
LAST-MODIFIED:20240410T214753Z
UID:33992-1714003200-1714175999@innovationwomen.com
SUMMARY:Day of Shecurity
DESCRIPTION:We need more gender diversity in the cybersecurity space. \n“While the number of professionals in the industry grew by more than 700\,000 in 2020\, women still only represent approximately 25% of the cybersecurity workforce.” Now is the time to change the status quo by advocating for more women to consider cybersecurity as a possible career path. \nContribute to the cause\, share your knowledge\, build a community\, and learn from other incredible women and non-binary people in cybersecurity.
URL:https://innovationwomen.com/event/day-of-shecurity-4/
LOCATION:Reddit HQ\, 303 2nd Street\, San Francisco\, CA\, United States
CATEGORIES:Register For Events
ATTACH;FMTTYPE=image/jpeg:https://innovationwomen.com/wp-content/uploads/2022/10/day-of-shecurity-logo.jpg
END:VEVENT
END:VCALENDAR