BEGIN:VCALENDAR
VERSION:2.0
PRODID:-//Innovation Women - ECPv6.15.20//NONSGML v1.0//EN
CALSCALE:GREGORIAN
METHOD:PUBLISH
X-ORIGINAL-URL:https://innovationwomen.com
X-WR-CALDESC:Events for Innovation Women
REFRESH-INTERVAL;VALUE=DURATION:PT1H
X-Robots-Tag:noindex
X-PUBLISHED-TTL:PT1H
BEGIN:VTIMEZONE
TZID:America/New_York
BEGIN:DAYLIGHT
TZOFFSETFROM:-0500
TZOFFSETTO:-0400
TZNAME:EDT
DTSTART:20240310T070000
END:DAYLIGHT
BEGIN:STANDARD
TZOFFSETFROM:-0400
TZOFFSETTO:-0500
TZNAME:EST
DTSTART:20241103T060000
END:STANDARD
BEGIN:DAYLIGHT
TZOFFSETFROM:-0500
TZOFFSETTO:-0400
TZNAME:EDT
DTSTART:20250309T070000
END:DAYLIGHT
BEGIN:STANDARD
TZOFFSETFROM:-0400
TZOFFSETTO:-0500
TZNAME:EST
DTSTART:20251102T060000
END:STANDARD
BEGIN:DAYLIGHT
TZOFFSETFROM:-0500
TZOFFSETTO:-0400
TZNAME:EDT
DTSTART:20260308T070000
END:DAYLIGHT
BEGIN:STANDARD
TZOFFSETFROM:-0400
TZOFFSETTO:-0500
TZNAME:EST
DTSTART:20261101T060000
END:STANDARD
END:VTIMEZONE
BEGIN:VEVENT
DTSTART;TZID=America/New_York:20251015T073000
DTEND;TZID=America/New_York:20251015T170000
DTSTAMP:20260422T031350
CREATED:20251014T202052Z
LAST-MODIFIED:20251014T202052Z
UID:38767-1760513400-1760547600@innovationwomen.com
SUMMARY:WITCON 2025
DESCRIPTION:Get ready to experience a day of collaboration\, innovation\, and connection at WITCON 2025\, brought to you by getWITit in Columbus. As the leading organization dedicated to supporting women in technology\, getWITit is proud to present an in-person conference event focused on fostering collaboration and breaking boundaries for women and non-gender-conforming individuals in the tech industry. \nHope Yin will be presenting “Crack The Code: Get Your Next Promotion\, Full STEAM Ahead”.
URL:https://innovationwomen.com/event/witcon-2025/
LOCATION:Fawcett Center @ OSU\, 2400 Olentangy River Road\, Columbus\, OH\, United States
CATEGORIES:Register For Events
ATTACH;FMTTYPE=image/jpeg:https://innovationwomen.com/wp-content/uploads/2025/10/WITCON_2025.jpg
END:VEVENT
END:VCALENDAR