BEGIN:VCALENDAR
VERSION:2.0
PRODID:-//Innovation Women - ECPv6.15.20//NONSGML v1.0//EN
CALSCALE:GREGORIAN
METHOD:PUBLISH
X-WR-CALNAME:Innovation Women
X-ORIGINAL-URL:https://innovationwomen.com
X-WR-CALDESC:Events for Innovation Women
REFRESH-INTERVAL;VALUE=DURATION:PT1H
X-Robots-Tag:noindex
X-PUBLISHED-TTL:PT1H
BEGIN:VTIMEZONE
TZID:UTC
BEGIN:STANDARD
TZOFFSETFROM:+0000
TZOFFSETTO:+0000
TZNAME:UTC
DTSTART:20240101T000000
END:STANDARD
END:VTIMEZONE
BEGIN:VEVENT
DTSTART;TZID=UTC:20251120T130000
DTEND;TZID=UTC:20251120T190000
DTSTAMP:20260422T200001
CREATED:20251107T160750Z
LAST-MODIFIED:20251107T164317Z
UID:38877-1763643600-1763665200@innovationwomen.com
SUMMARY:RealTalk 2025: Your Economic Edge
DESCRIPTION:In today’s financial world\, disruption is constant\, but so is opportunity. At RealTalk 2025\, we take on the question professionals are asking: how do you define\, protect\, and grow your value in a world that’s shifting around you? \nThis year’s theme\, Your Economic Edge\, will explore what it means to lead strategically\, grow intentionally and stay competitive\, whether you’re driving transformation at scale or making your next career move.
URL:https://innovationwomen.com/event/realtalk-2025-your-economic-edge/
LOCATION:Suffolk University\, 120 Tremont St\, Boston\, MA\, United States
ATTACH;FMTTYPE=image/jpeg:https://innovationwomen.com/wp-content/uploads/2025/11/fintech.jpg
END:VEVENT
END:VCALENDAR