BEGIN:VCALENDAR
VERSION:2.0
PRODID:-//Innovation Women - ECPv6.15.20//NONSGML v1.0//EN
CALSCALE:GREGORIAN
METHOD:PUBLISH
X-WR-CALNAME:Innovation Women
X-ORIGINAL-URL:https://innovationwomen.com
X-WR-CALDESC:Events for Innovation Women
REFRESH-INTERVAL;VALUE=DURATION:PT1H
X-Robots-Tag:noindex
X-PUBLISHED-TTL:PT1H
BEGIN:VTIMEZONE
TZID:UTC
BEGIN:STANDARD
TZOFFSETFROM:+0000
TZOFFSETTO:+0000
TZNAME:UTC
DTSTART:20240101T000000
END:STANDARD
END:VTIMEZONE
BEGIN:VTIMEZONE
TZID:America/New_York
BEGIN:DAYLIGHT
TZOFFSETFROM:-0500
TZOFFSETTO:-0400
TZNAME:EDT
DTSTART:20240310T070000
END:DAYLIGHT
BEGIN:STANDARD
TZOFFSETFROM:-0400
TZOFFSETTO:-0500
TZNAME:EST
DTSTART:20241103T060000
END:STANDARD
BEGIN:DAYLIGHT
TZOFFSETFROM:-0500
TZOFFSETTO:-0400
TZNAME:EDT
DTSTART:20250309T070000
END:DAYLIGHT
BEGIN:STANDARD
TZOFFSETFROM:-0400
TZOFFSETTO:-0500
TZNAME:EST
DTSTART:20251102T060000
END:STANDARD
BEGIN:DAYLIGHT
TZOFFSETFROM:-0500
TZOFFSETTO:-0400
TZNAME:EDT
DTSTART:20260308T070000
END:DAYLIGHT
BEGIN:STANDARD
TZOFFSETFROM:-0400
TZOFFSETTO:-0500
TZNAME:EST
DTSTART:20261101T060000
END:STANDARD
END:VTIMEZONE
BEGIN:VEVENT
DTSTART;VALUE=DATE:20251101
DTEND;VALUE=DATE:20251126
DTSTAMP:20260421T232949
CREATED:20251104T223158Z
LAST-MODIFIED:20251104T223158Z
UID:38864-1761955200-1764115199@innovationwomen.com
SUMMARY:The Grateful Growth Summit
DESCRIPTION:You’re busy. We get it. That’s why the Grateful Growth Summit is designed to fit easily into your life—just 15-30 minutes a day. No long Zoom marathons. No overwhelming “watch later” pile. Just short\, powerful audio talks you can listen to anywhere—on your commute\, while you cook\, or during a walk in the crisp Fall air. \nKrista Giannak presented “Writing With AI: Effective\, Trustworthy Thought Leadership”.
URL:https://innovationwomen.com/event/the-grateful-growth-summit/
LOCATION:Online
CATEGORIES:Register For Events
ATTACH;FMTTYPE=image/jpeg:https://innovationwomen.com/wp-content/uploads/2025/11/Grateful_Growth_Summit_Cover.jpg
END:VEVENT
BEGIN:VEVENT
DTSTART;VALUE=DATE:20251104
DTEND;VALUE=DATE:20251108
DTSTAMP:20260421T232949
CREATED:20250613T210323Z
LAST-MODIFIED:20250613T210323Z
UID:37883-1762214400-1762559999@innovationwomen.com
SUMMARY:Tech Bash Developer Conference
DESCRIPTION:At TechBash\, attendees will take their skills to the next level\, learning from experts who share their knowledge in a fun\, collaborative\, and inclusive environment. TechBash is focused on Web\, Cloud\, DevOps\, Architecture\, Best Practices\, Soft Skills\, and much more. We provide three full days of keynotes and breakout sessions plus an optional fourth day of deep-dive workshops. And so you don’t get burned out\, we also have social events\, a family day\, and yes\, we are hosted at the largest indoor waterpark on the East Coast. TechBash is a non-profit\, community run event\, led by developers for developers. After TechBash\, attendees are inspired to build remarkable things. \nMandy Meindersma will be presenting “From Concert to Code: The IoT + Hardware Behind Taylor Swift’s Dazzling 70K Fan Displays!”
URL:https://innovationwomen.com/event/tech-bash-developer-conference/
LOCATION:Kalahari Resorts & Convention Center – Poconos\, 250 Kalahari Blvd\, Pocono Manor\, PA\, United States
CATEGORIES:Register For Events
ATTACH;FMTTYPE=image/jpeg:https://innovationwomen.com/wp-content/uploads/2025/06/techbash-e1749848590390.jpg
END:VEVENT
BEGIN:VEVENT
DTSTART;VALUE=DATE:20251105
DTEND;VALUE=DATE:20251108
DTSTAMP:20260421T232949
CREATED:20251001T215141Z
LAST-MODIFIED:20251001T215141Z
UID:38713-1762300800-1762559999@innovationwomen.com
SUMMARY:re:con
DESCRIPTION:re:unite\, re:define\, re:inspire – Participants will walk away with ideas to implement change\, information on best practices\, and equipped with the tools and resources to succeed. Through breakouts\, workshops\, panel discussions\, and networking\, they will be re:fueled and re:invigorated. Opportunities to engage with vendors and suppliers\, support micro-enterprises\, participate in wellness activities\, and celebrate leaders and innovators\, will leave participants ready to take on the challenges of our industry. \nMisha Safran will be presenting “Reclaiming Joy\, Redefining Success: Cultivating Rest and Resilience”.
URL:https://innovationwomen.com/event/recon/
LOCATION:Radisson Plaza Hotel & Suites Kalamazoo\, 100 W Michigan Ave\, Kalamazoo\, MI\, United States
CATEGORIES:Register For Events
ATTACH;FMTTYPE=image/jpeg:https://innovationwomen.com/wp-content/uploads/2025/10/recon.jpg
END:VEVENT
BEGIN:VEVENT
DTSTART;VALUE=DATE:20251105
DTEND;VALUE=DATE:20251109
DTSTAMP:20260421T232949
CREATED:20250929T213547Z
LAST-MODIFIED:20250929T215233Z
UID:38671-1762300800-1762646399@innovationwomen.com
SUMMARY:Athletic Business Show 2025
DESCRIPTION:We know the unique challenges you face within your programs and at your facilities. That’s why we bring in industry leaders from around the world who offer a diverse scope of knowledge and expertise\, ready to share their solutions with you in 3 days of sessions. Discover what’s possible when you are given the keys to success from athletics\, fitness and recreation leaders at AB Show. \nRoz Mays will be presenting “Helping Nontraditional Clients Overcome Gym-timidation”.
URL:https://innovationwomen.com/event/athletic-business-show-2025/
LOCATION:San Diego Convention Center\, 111 W Harbor Dr\, San Diego\, CA\, United States
CATEGORIES:Register For Events
ATTACH;FMTTYPE=image/jpeg:https://innovationwomen.com/wp-content/uploads/2025/09/ABC25_Speakers_Social_RozMays.jpg
END:VEVENT
BEGIN:VEVENT
DTSTART;TZID=America/New_York:20251106T080000
DTEND;TZID=America/New_York:20251106T170000
DTSTAMP:20260421T232949
CREATED:20251003T173731Z
LAST-MODIFIED:20251003T173731Z
UID:38721-1762416000-1762448400@innovationwomen.com
SUMMARY:Providers' Council Annual Membership and Business Meeting & 50th Celebration
DESCRIPTION:Founded in 1975\, the Providers’ Council is the largest human services trade association and is widely recognized as the official voice of the private provider industry. \nCaitlin Donovan will be presenting “Dismantling Burnout: Empowering Leaders and Teams to Overcome Burnout Together”.
URL:https://innovationwomen.com/event/providers-council-annual-membership-and-business-meeting-50th-celebration/
LOCATION:Boston Marriott Copley Place\, 110 Huntington Ave\, Boston\, MA\, United States
CATEGORIES:Register For Events
ATTACH;FMTTYPE=image/jpeg:https://innovationwomen.com/wp-content/uploads/2025/10/Providers_Org.jpeg
END:VEVENT
BEGIN:VEVENT
DTSTART;TZID=America/New_York:20251106T130000
DTEND;TZID=America/New_York:20251106T163000
DTSTAMP:20260421T232949
CREATED:20251028T211804Z
LAST-MODIFIED:20251028T211804Z
UID:38837-1762434000-1762446600@innovationwomen.com
SUMMARY:ECare Behavioral Health Institute Continuing Education
DESCRIPTION:Whether you’re a social worker\, mental health counselor\, addiction counselor\, marriage & family therapist\, or psychologist — you deserve continuing education that’s practical\, affordable\, and clinically relevant. \nDr. Ashley Smith will be presenting “OCD or OCPD: Diagnosis\, Treatment\, and What Clinicians Miss”.
URL:https://innovationwomen.com/event/ecare-behavioral-health-institute-continuing-education-2/
LOCATION:Online
CATEGORIES:Register For Events
ATTACH;FMTTYPE=image/webp:https://innovationwomen.com/wp-content/uploads/2025/10/eCare-Logo-300x77-1.webp
END:VEVENT
END:VCALENDAR