BEGIN:VCALENDAR
VERSION:2.0
PRODID:-//Innovation Women - ECPv6.15.20//NONSGML v1.0//EN
CALSCALE:GREGORIAN
METHOD:PUBLISH
X-WR-CALNAME:Innovation Women
X-ORIGINAL-URL:https://innovationwomen.com
X-WR-CALDESC:Events for Innovation Women
REFRESH-INTERVAL;VALUE=DURATION:PT1H
X-Robots-Tag:noindex
X-PUBLISHED-TTL:PT1H
BEGIN:VTIMEZONE
TZID:UTC
BEGIN:STANDARD
TZOFFSETFROM:+0000
TZOFFSETTO:+0000
TZNAME:UTC
DTSTART:20250101T000000
END:STANDARD
END:VTIMEZONE
BEGIN:VTIMEZONE
TZID:America/New_York
BEGIN:DAYLIGHT
TZOFFSETFROM:-0500
TZOFFSETTO:-0400
TZNAME:EDT
DTSTART:20250309T070000
END:DAYLIGHT
BEGIN:STANDARD
TZOFFSETFROM:-0400
TZOFFSETTO:-0500
TZNAME:EST
DTSTART:20251102T060000
END:STANDARD
BEGIN:DAYLIGHT
TZOFFSETFROM:-0500
TZOFFSETTO:-0400
TZNAME:EDT
DTSTART:20260308T070000
END:DAYLIGHT
BEGIN:STANDARD
TZOFFSETFROM:-0400
TZOFFSETTO:-0500
TZNAME:EST
DTSTART:20261101T060000
END:STANDARD
BEGIN:DAYLIGHT
TZOFFSETFROM:-0500
TZOFFSETTO:-0400
TZNAME:EDT
DTSTART:20270314T070000
END:DAYLIGHT
BEGIN:STANDARD
TZOFFSETFROM:-0400
TZOFFSETTO:-0500
TZNAME:EST
DTSTART:20271107T060000
END:STANDARD
END:VTIMEZONE
BEGIN:VEVENT
DTSTART;VALUE=DATE:20260107
DTEND;VALUE=DATE:20260109
DTSTAMP:20260421T192304
CREATED:20251027T213702Z
LAST-MODIFIED:20251218T145711Z
UID:38823-1767744000-1767916799@innovationwomen.com
SUMMARY:Global Founders & Innovators Summit
DESCRIPTION:Where 1\,000+ founders\, investors\, and changemakers harness AI to build the future of entrepreneurship\, innovation\, and global impact. \nPrecious Williams will be presenting “Getting to the Yes with a Powerful Investor Pitch”.
URL:https://innovationwomen.com/event/global-founders-innovators-summit/
LOCATION:Online
CATEGORIES:Register For Events
ATTACH;FMTTYPE=image/jpeg:https://innovationwomen.com/wp-content/uploads/2025/10/Screenshot_2025-10-20_061001-1.jpg
END:VEVENT
BEGIN:VEVENT
DTSTART;TZID=America/New_York:20260107T183000
DTEND;TZID=America/New_York:20260107T200000
DTSTAMP:20260421T192304
CREATED:20260107T221219Z
LAST-MODIFIED:20260107T221219Z
UID:42987-1767810600-1767816000@innovationwomen.com
SUMMARY:Women In Film and Video - DC: Mentorship Event
DESCRIPTION:Women in Film & Video (WIFV) provides educational and networking opportunities for screen-based media makers\, celebrates women’s creative and technical achievements in media\, and advocates for parity both in front of and behind the camera to ensure that all voices can be heard. \nShannon Malone-deBenedictis will be presenting “How To Sell Yourself Like A TV Show: CONFIDENCE EDITION”.
URL:https://innovationwomen.com/event/women-in-film-and-video-dc-mentorship-event/
LOCATION:Online
CATEGORIES:Register For Events
ATTACH;FMTTYPE=image/jpeg:https://innovationwomen.com/wp-content/uploads/2026/01/SELL_YOURSELF_CONFIDENCE_title_card.jpg
END:VEVENT
END:VCALENDAR