BEGIN:VCALENDAR
VERSION:2.0
PRODID:-//Innovation Women - ECPv6.15.20//NONSGML v1.0//EN
CALSCALE:GREGORIAN
METHOD:PUBLISH
X-ORIGINAL-URL:https://innovationwomen.com
X-WR-CALDESC:Events for Innovation Women
REFRESH-INTERVAL;VALUE=DURATION:PT1H
X-Robots-Tag:noindex
X-PUBLISHED-TTL:PT1H
BEGIN:VTIMEZONE
TZID:UTC
BEGIN:STANDARD
TZOFFSETFROM:+0000
TZOFFSETTO:+0000
TZNAME:UTC
DTSTART:20240101T000000
END:STANDARD
END:VTIMEZONE
BEGIN:VEVENT
DTSTART;VALUE=DATE:20251215
DTEND;VALUE=DATE:20251216
DTSTAMP:20260422T022057
CREATED:20251024T211119Z
LAST-MODIFIED:20251024T211119Z
UID:38821-1765756800-1765843199@innovationwomen.com
SUMMARY:Alexander Skye Group Presentation
DESCRIPTION:Stay connected with the Alexander Skye Group as we host workshops\, networking sessions\, and business growth events designed to educate\, inspire\, and empower entrepreneurs and business owners. From strategy-driven webinars to in-person masterminds and community meetups\, our events are curated to help you build\, scale\, and thrive. \nPrecious Williams will be presenting “Pitch Slap Your Sales this Holiday Season”.
URL:https://innovationwomen.com/event/alexander-skye-group-presentation/
LOCATION:Online
CATEGORIES:Register For Events
ATTACH;FMTTYPE=image/jpeg:https://innovationwomen.com/wp-content/uploads/2025/10/Screenshot-2025-10-24-171056.jpg
END:VEVENT
END:VCALENDAR