BEGIN:VCALENDAR
VERSION:2.0
PRODID:-//Innovation Women - ECPv6.15.20//NONSGML v1.0//EN
CALSCALE:GREGORIAN
METHOD:PUBLISH
X-ORIGINAL-URL:https://innovationwomen.com
X-WR-CALDESC:Events for Innovation Women
REFRESH-INTERVAL;VALUE=DURATION:PT1H
X-Robots-Tag:noindex
X-PUBLISHED-TTL:PT1H
BEGIN:VTIMEZONE
TZID:UTC
BEGIN:STANDARD
TZOFFSETFROM:+0000
TZOFFSETTO:+0000
TZNAME:UTC
DTSTART:20250101T000000
END:STANDARD
END:VTIMEZONE
BEGIN:VTIMEZONE
TZID:America/Los_Angeles
BEGIN:DAYLIGHT
TZOFFSETFROM:-0800
TZOFFSETTO:-0700
TZNAME:PDT
DTSTART:20250309T100000
END:DAYLIGHT
BEGIN:STANDARD
TZOFFSETFROM:-0700
TZOFFSETTO:-0800
TZNAME:PST
DTSTART:20251102T090000
END:STANDARD
BEGIN:DAYLIGHT
TZOFFSETFROM:-0800
TZOFFSETTO:-0700
TZNAME:PDT
DTSTART:20260308T100000
END:DAYLIGHT
BEGIN:STANDARD
TZOFFSETFROM:-0700
TZOFFSETTO:-0800
TZNAME:PST
DTSTART:20261101T090000
END:STANDARD
BEGIN:DAYLIGHT
TZOFFSETFROM:-0800
TZOFFSETTO:-0700
TZNAME:PDT
DTSTART:20270314T100000
END:DAYLIGHT
BEGIN:STANDARD
TZOFFSETFROM:-0700
TZOFFSETTO:-0800
TZNAME:PST
DTSTART:20271107T090000
END:STANDARD
END:VTIMEZONE
BEGIN:VEVENT
DTSTART;VALUE=DATE:20260112
DTEND;VALUE=DATE:20260117
DTSTAMP:20260423T234606
CREATED:20260107T220317Z
LAST-MODIFIED:20260107T220317Z
UID:42983-1768176000-1768607999@innovationwomen.com
SUMMARY:World Sketchnote Week Summit 2026
DESCRIPTION:A celebration of sketchnoting\, visual learning\, and creativity. With events for educators\, creators\, professionals\, and doodlers of all levels\, this event brings together people around the world to share\, learn\, and sketch. \nLisa Rothstein will be presenting “Drawing Emotion: A Cartoonist’s Secrets for Sketchnotes That Connect”.
URL:https://innovationwomen.com/event/world-sketchnote-week-summit-2026/
LOCATION:Online
CATEGORIES:Register For Events
ATTACH;FMTTYPE=image/jpeg:https://innovationwomen.com/wp-content/uploads/2026/01/Lisa.jpg
END:VEVENT
BEGIN:VEVENT
DTSTART;TZID=America/Los_Angeles:20260115T120000
DTEND;TZID=America/Los_Angeles:20260115T130000
DTSTAMP:20260423T234606
CREATED:20251219T215829Z
LAST-MODIFIED:20251223T190015Z
UID:42076-1768478400-1768482000@innovationwomen.com
SUMMARY:Women's National Book Association - San Francisco Chapter Lunch N Learn
DESCRIPTION:Welcome to the original WNBA – the Women’s National Book Association\, established in 1917\, before women in America even had the right to vote. WNBA is a vibrant national organization that advocates for women’s literacy and for women’s role in the community of the book. \nDebra Eckerling will be presenting “How to Write a Winning Book Proposal”.
URL:https://innovationwomen.com/event/womens-national-book-association-san-francisco-chapter-lunch-n-learn/
LOCATION:Online
CATEGORIES:Register For Events
ATTACH;FMTTYPE=image/jpeg:https://innovationwomen.com/wp-content/uploads/2023/08/WNBA-SF-Chapter-Banner.jpg
END:VEVENT
END:VCALENDAR